BEGIN:VCALENDAR
VERSION:2.0
PRODID:-//Adele Fedorak - ECPv6.15.20//NONSGML v1.0//EN
CALSCALE:GREGORIAN
METHOD:PUBLISH
X-WR-CALNAME:Adele Fedorak
X-ORIGINAL-URL:https://www.adelefedorak.ca
X-WR-CALDESC:Events for Adele Fedorak
REFRESH-INTERVAL;VALUE=DURATION:PT1H
X-Robots-Tag:noindex
X-PUBLISHED-TTL:PT1H
BEGIN:VTIMEZONE
TZID:America/Edmonton
BEGIN:DAYLIGHT
TZOFFSETFROM:-0700
TZOFFSETTO:-0600
TZNAME:MDT
DTSTART:20210314T090000
END:DAYLIGHT
BEGIN:STANDARD
TZOFFSETFROM:-0600
TZOFFSETTO:-0700
TZNAME:MST
DTSTART:20211107T080000
END:STANDARD
BEGIN:DAYLIGHT
TZOFFSETFROM:-0700
TZOFFSETTO:-0600
TZNAME:MDT
DTSTART:20220313T090000
END:DAYLIGHT
BEGIN:STANDARD
TZOFFSETFROM:-0600
TZOFFSETTO:-0700
TZNAME:MST
DTSTART:20221106T080000
END:STANDARD
BEGIN:DAYLIGHT
TZOFFSETFROM:-0700
TZOFFSETTO:-0600
TZNAME:MDT
DTSTART:20230312T090000
END:DAYLIGHT
BEGIN:STANDARD
TZOFFSETFROM:-0600
TZOFFSETTO:-0700
TZNAME:MST
DTSTART:20231105T080000
END:STANDARD
END:VTIMEZONE
BEGIN:VEVENT
DTSTART;TZID=America/Edmonton:20220428T140000
DTEND;TZID=America/Edmonton:20220428T153000
DTSTAMP:20260423T100038
CREATED:20220401T220528Z
LAST-MODIFIED:20220412T160745Z
UID:1210-1651154400-1651159800@www.adelefedorak.ca
SUMMARY:Story Moments Workshop April 28
DESCRIPTION:Are you feeling uneasy or disconnected?\nDid you know that learning to understand your own personal story can help? \nYou need to give your stories the space and attention they deserve. And\, discover how the memorable story moments are impacting your life right now! \nThis live\, 90 minute\, interactive Story Moments Workshop will take place on Thursday\,  April 28th\, 2022 at 2:00 pm (MST). \nYou will learn: \n\nHow stories drive thoughts\, feelings\, and actions – yours and everyone else’s.\n\n\nHow to use your natural story more intentionally.\n\n\nHow to share your meaningful stories in a safe and supportive community.\n\nYour stories are your edge\, in business\, and in life. \nBy understanding them you can create more clarity\, stronger connections\, and change for the better.
URL:https://www.adelefedorak.ca/event/story-moments-workshop-april-28/
LOCATION:Online
CATEGORIES:Story Moments Online Workshop
END:VEVENT
BEGIN:VEVENT
DTSTART;TZID=America/Edmonton:20220408T120000
DTEND;TZID=America/Edmonton:20220408T133000
DTSTAMP:20260423T100038
CREATED:20220329T202042Z
LAST-MODIFIED:20220401T220619Z
UID:1190-1649419200-1649424600@www.adelefedorak.ca
SUMMARY:Story Moments Workshop April 8
DESCRIPTION:The Theme Of This Story Work Is The War In Ukraine\nWhether you feel like you have a little or a lot to say about this topic I guarantee you will find it valuable. \nYou have a plethora of small\, powerful stories that are helpful to you and others and most of those moments are invisible or forgotten. \nTogether we look at what Story Moments are\, why they are helpful\, and then dive into the work of finding and sharing them. \nYou will have the opportunity to take one of your stories a step further and play with the concept of ‘putting the story out in front of you’.  \nYou need to give your stories the space and attention they deserve. And discover how the memorable Story Moments are impacting your life right now! \nThis live\, 90-minute\, interactive Story Moments Workshop will take place on April 8 @ 12 pm (Noon) MT. \nYou will learn: \n\nHow stories drive thoughts\, feelings\, and actions – yours and everyone else’s.\nHow to use your natural story ability more intentionally.\nHow to share your meaningful stories in a safe and supportive community.\n\nYour stories are your edge\, in business\, and in life. \nBy understanding them you can create more clarity\, stronger connections\, and change for the better. \nBOOK NOW – LIMITED PLACES
URL:https://www.adelefedorak.ca/event/story-moments-online-workshop-april-8/
LOCATION:Online
CATEGORIES:Story Moments Online Workshop
END:VEVENT
BEGIN:VEVENT
DTSTART;TZID=America/Edmonton:20220407T100000
DTEND;TZID=America/Edmonton:20220407T113000
DTSTAMP:20260423T100038
CREATED:20220329T195849Z
LAST-MODIFIED:20220401T220603Z
UID:1188-1649325600-1649331000@www.adelefedorak.ca
SUMMARY:Story Moments Workshop April 7
DESCRIPTION:Explore Story Moments And The Strategy Of Externalizing Your Story\nYou have a plethora of small\, powerful stories that are helpful to you and others and most of those moments are invisible or forgotten. \nTogether we look at what story moments are\, and why they are helpful\, and then dive into the work of finding and sharing them. \nYou will have the opportunity to take one of your stories a step further and play with the concept of ‘putting the story out in front of you’.  \nYou need to give your stories the space and attention they deserve. And discover how the memorable Story Moments are impacting your life right now! \nThis live\, 90-minute\, interactive Story Moments Workshop will take place on April 7 @ 10 am MT. \nYou will learn: \n\nHow stories drive thoughts\, feelings\, and actions – yours and everyone else’s.\nHow to use your natural story ability more intentionally.\nHow to share your meaningful stories in a safe and supportive community.\n\nYour stories are your edge\, in business\, and in life. \nBy understanding them you can create more clarity\, stronger connections\, and change for the better. \nBOOK NOW – LIMITED PLACES
URL:https://www.adelefedorak.ca/event/story-moments-online-workshop-april-7/
LOCATION:Online
CATEGORIES:Story Moments Online Workshop
END:VEVENT
BEGIN:VEVENT
DTSTART;TZID=America/Edmonton:20220405T180000
DTEND;TZID=America/Edmonton:20220405T193000
DTSTAMP:20260423T100038
CREATED:20220329T195318Z
LAST-MODIFIED:20220401T215131Z
UID:1181-1649181600-1649187000@www.adelefedorak.ca
SUMMARY:Story Moments Workshop April 5
DESCRIPTION:Using Story Moments To Explore Power\, Agency\, And Accessibility\nYou have a plethora of small\, powerful stories that are helpful to you and others and most of those moments are invisible or forgotten. Together we look at what Story Moments are\, why they are helpful\, and then dive into the work of finding and sharing them. \nYou need to give your stories the space and attention they deserve. And discover how the memorable Story Moments are impacting your life right now! \nThis live\, 90-minute\, interactive Story Moments Workshop will take place on April 5 @ 6 pm MT. \nYou will learn: \n\nHow stories drive thoughts\, feelings\, and actions – yours and everyone else’s.\nHow to use your natural story ability more intentionally.\nHow to share your meaningful stories in a safe and supportive community.\n\nYour stories are your edge\, in business\, and in life. \nBy understanding them you can create more clarity\, stronger connections\, and change for the better. \nBOOK NOW – LIMITED PLACES
URL:https://www.adelefedorak.ca/event/story-moments-online-workshop-april-5/
LOCATION:Online
CATEGORIES:Story Moments Online Workshop
END:VEVENT
END:VCALENDAR